BEGIN:VCALENDAR
VERSION:2.0
PRODID:-//Hudson Park Primary School - ECPv6.15.14//NONSGML v1.0//EN
CALSCALE:GREGORIAN
METHOD:PUBLISH
X-WR-CALNAME:Hudson Park Primary School
X-ORIGINAL-URL:https://hudsonparkps.wa.edu.au
X-WR-CALDESC:Events for Hudson Park Primary School
REFRESH-INTERVAL;VALUE=DURATION:PT1H
X-Robots-Tag:noindex
X-PUBLISHED-TTL:PT1H
BEGIN:VTIMEZONE
TZID:Australia/Perth
BEGIN:STANDARD
TZOFFSETFROM:+0800
TZOFFSETTO:+0800
TZNAME:AWST
DTSTART:20250101T000000
END:STANDARD
END:VTIMEZONE
BEGIN:VEVENT
DTSTART;TZID=Australia/Perth:20260314T000000
DTEND;TZID=Australia/Perth:20260314T000000
DTSTAMP:20260417T193040
CREATED:20260314T070832Z
LAST-MODIFIED:20260314T070832Z
UID:2175-1773446400-1773446400@hudsonparkps.wa.edu.au
SUMMARY:Labour Day Public Holiday
DESCRIPTION:
URL:https://hudsonparkps.wa.edu.au/calendar/labour-day-public-holiday/
END:VEVENT
BEGIN:VEVENT
DTSTART;VALUE=DATE:20260323
DTEND;VALUE=DATE:20260328
DTSTAMP:20260417T193040
CREATED:20250708T075413Z
LAST-MODIFIED:20260216T073617Z
UID:1355-1774224000-1774655999@hudsonparkps.wa.edu.au
SUMMARY:Swimming Week 1
DESCRIPTION:
URL:https://hudsonparkps.wa.edu.au/calendar/swimming/
CATEGORIES:Incursion/Excursion
END:VEVENT
END:VCALENDAR