BEGIN:VCALENDAR
VERSION:2.0
PRODID:-//Hudson Park Primary School - ECPv6.15.14//NONSGML v1.0//EN
CALSCALE:GREGORIAN
METHOD:PUBLISH
X-WR-CALNAME:Hudson Park Primary School
X-ORIGINAL-URL:https://hudsonparkps.wa.edu.au
X-WR-CALDESC:Events for Hudson Park Primary School
REFRESH-INTERVAL;VALUE=DURATION:PT1H
X-Robots-Tag:noindex
X-PUBLISHED-TTL:PT1H
BEGIN:VTIMEZONE
TZID:Australia/Perth
BEGIN:STANDARD
TZOFFSETFROM:+0800
TZOFFSETTO:+0800
TZNAME:AWST
DTSTART:20230101T000000
END:STANDARD
END:VTIMEZONE
BEGIN:VEVENT
DTSTART;TZID=Australia/Perth:20250820T090000
DTEND;TZID=Australia/Perth:20250820T103000
DTSTAMP:20260424T071515
CREATED:20250708T072548Z
LAST-MODIFIED:20250729T005751Z
UID:1339-1755680400-1755685800@hudsonparkps.wa.edu.au
SUMMARY:Book Week Parade
DESCRIPTION:
URL:https://hudsonparkps.wa.edu.au/calendar/book-week-parade-a5-assembly/
CATEGORIES:Assembly
END:VEVENT
BEGIN:VEVENT
DTSTART;TZID=Australia/Perth:20250819T170000
DTEND;TZID=Australia/Perth:20250819T180000
DTSTAMP:20260424T071515
CREATED:20250708T072929Z
LAST-MODIFIED:20250720T073714Z
UID:1343-1755622800-1755626400@hudsonparkps.wa.edu.au
SUMMARY:P&C Meeting
DESCRIPTION:
URL:https://hudsonparkps.wa.edu.au/calendar/pc-meeting/
CATEGORIES:Meetings
END:VEVENT
BEGIN:VEVENT
DTSTART;TZID=Australia/Perth:20250812T151000
DTEND;TZID=Australia/Perth:20250812T170000
DTSTAMP:20260424T071515
CREATED:20250708T072418Z
LAST-MODIFIED:20250720T073714Z
UID:1337-1755011400-1755018000@hudsonparkps.wa.edu.au
SUMMARY:School Board Meeting
DESCRIPTION:
URL:https://hudsonparkps.wa.edu.au/calendar/school-board-meeting/
CATEGORIES:Meetings
END:VEVENT
BEGIN:VEVENT
DTSTART;TZID=Australia/Perth:20250811T100000
DTEND;TZID=Australia/Perth:20250811T120000
DTSTAMP:20260424T071515
CREATED:20250708T071358Z
LAST-MODIFIED:20250708T085255Z
UID:1335-1754906400-1754913600@hudsonparkps.wa.edu.au
SUMMARY:Science Alive Incursion
DESCRIPTION:
URL:https://hudsonparkps.wa.edu.au/calendar/science-alive-incursion/
CATEGORIES:Incursion/Excursion
END:VEVENT
BEGIN:VEVENT
DTSTART;TZID=Australia/Perth:20250808T090000
DTEND;TZID=Australia/Perth:20250808T100000
DTSTAMP:20260424T071515
CREATED:20250708T070845Z
LAST-MODIFIED:20250708T085255Z
UID:1333-1754643600-1754647200@hudsonparkps.wa.edu.au
SUMMARY:Assembly A3
DESCRIPTION:
URL:https://hudsonparkps.wa.edu.au/calendar/assembly-a3/
CATEGORIES:Assembly
END:VEVENT
BEGIN:VEVENT
DTSTART;VALUE=DATE:20250805
DTEND;VALUE=DATE:20250806
DTSTAMP:20260424T071515
CREATED:20250801T015430Z
LAST-MODIFIED:20250801T015430Z
UID:1639-1754352000-1754438399@hudsonparkps.wa.edu.au
SUMMARY:Pyjama Day - Gold coin donation
DESCRIPTION:
URL:https://hudsonparkps.wa.edu.au/calendar/pyjama-day-gold-coin-donation/
CATEGORIES:School Events
END:VEVENT
BEGIN:VEVENT
DTSTART;VALUE=DATE:20250804
DTEND;VALUE=DATE:20250805
DTSTAMP:20260424T071515
CREATED:20250708T070736Z
LAST-MODIFIED:20250708T085255Z
UID:1331-1754265600-1754351999@hudsonparkps.wa.edu.au
SUMMARY:Constable care Incursion
DESCRIPTION:
URL:https://hudsonparkps.wa.edu.au/calendar/constable-care-incursion/
CATEGORIES:Incursion/Excursion
END:VEVENT
BEGIN:VEVENT
DTSTART;TZID=Australia/Perth:20250722T085000
DTEND;TZID=Australia/Perth:20250722T150000
DTSTAMP:20260424T071515
CREATED:20250623T063736Z
LAST-MODIFIED:20250708T085255Z
UID:1278-1753174200-1753196400@hudsonparkps.wa.edu.au
SUMMARY:School starts for students K-6
DESCRIPTION:
URL:https://hudsonparkps.wa.edu.au/calendar/school-starts-for-students-k-6/
CATEGORIES:Term Dates
END:VEVENT
BEGIN:VEVENT
DTSTART;VALUE=DATE:20250721
DTEND;VALUE=DATE:20250722
DTSTAMP:20260424T071515
CREATED:20250623T063303Z
LAST-MODIFIED:20250708T085255Z
UID:1276-1753056000-1753142399@hudsonparkps.wa.edu.au
SUMMARY:Staff Development Day - Pupil Free Day
DESCRIPTION:
URL:https://hudsonparkps.wa.edu.au/calendar/staff-development-day-pupil-free-day/
END:VEVENT
BEGIN:VEVENT
DTSTART;TZID=Australia/Perth:20250702T121500
DTEND;TZID=Australia/Perth:20250702T173000
DTSTAMP:20260424T071515
CREATED:20250621T122039Z
LAST-MODIFIED:20250720T073820Z
UID:1270-1751458500-1751477400@hudsonparkps.wa.edu.au
SUMMARY:Parent Teacher Meetings
DESCRIPTION:
URL:https://hudsonparkps.wa.edu.au/calendar/parent-teacher-meetings/
CATEGORIES:Meetings
END:VEVENT
BEGIN:VEVENT
DTSTART;TZID=Australia/Perth:20250702T114500
DTEND;TZID=Australia/Perth:20250702T114500
DTSTAMP:20260424T071515
CREATED:20250621T122039Z
LAST-MODIFIED:20250708T085255Z
UID:1272-1751456700-1751456700@hudsonparkps.wa.edu.au
SUMMARY:School closes early at 11.45am
DESCRIPTION:
URL:https://hudsonparkps.wa.edu.au/calendar/school-closes-early/
CATEGORIES:School Events
END:VEVENT
BEGIN:VEVENT
DTSTART;TZID=Australia/Perth:20250630T090000
DTEND;TZID=Australia/Perth:20250630T100000
DTSTAMP:20260424T071515
CREATED:20250627T111349Z
LAST-MODIFIED:20250708T085255Z
UID:1318-1751274000-1751277600@hudsonparkps.wa.edu.au
SUMMARY:Naidoc Celebration Assembly
DESCRIPTION:
URL:https://hudsonparkps.wa.edu.au/calendar/naidoc-celebration-assembly/
CATEGORIES:Assembly
END:VEVENT
BEGIN:VEVENT
DTSTART;VALUE=DATE:20250630
DTEND;VALUE=DATE:20250701
DTSTAMP:20260424T071515
CREATED:20250629T064805Z
LAST-MODIFIED:20250629T064805Z
UID:1322-1751241600-1751327999@hudsonparkps.wa.edu.au
SUMMARY:Student Reports sent home
DESCRIPTION:
URL:https://hudsonparkps.wa.edu.au/calendar/student-reports-sent-home/
CATEGORIES:School Events
END:VEVENT
BEGIN:VEVENT
DTSTART;TZID=Australia/Perth:20250627T090000
DTEND;TZID=Australia/Perth:20250627T150000
DTSTAMP:20260424T071515
CREATED:20250627T113707Z
LAST-MODIFIED:20250629T024530Z
UID:1320-1751014800-1751036400@hudsonparkps.wa.edu.au
SUMMARY:Year 1/2 excursion to King's Park - 'Koora Koora Kaarta Koomba'
DESCRIPTION:
URL:https://hudsonparkps.wa.edu.au/calendar/year-1-2-excursion-to-kings-park-koora-koora-kaarta-koomba/
CATEGORIES:School Events
END:VEVENT
BEGIN:VEVENT
DTSTART;TZID=Australia/Perth:20250627T090000
DTEND;TZID=Australia/Perth:20250627T150000
DTSTAMP:20260424T071515
CREATED:20250621T122039Z
LAST-MODIFIED:20250621T123102Z
UID:1267-1751014800-1751036400@hudsonparkps.wa.edu.au
SUMMARY:Lightning Carnival
DESCRIPTION:
URL:https://hudsonparkps.wa.edu.au/calendar/lightning-carnival/
LOCATION:Dryandra Primary School\, 45 Dryandra Drive\, Mirrabooka\, WA\, 6061\, Australia
CATEGORIES:School Events
END:VEVENT
BEGIN:VEVENT
DTSTART;TZID=Australia/Perth:20250625T130000
DTEND;TZID=Australia/Perth:20250625T140000
DTSTAMP:20260424T071515
CREATED:20250621T122039Z
LAST-MODIFIED:20250621T123102Z
UID:1265-1750856400-1750860000@hudsonparkps.wa.edu.au
SUMMARY:Reward Day - Pizza
DESCRIPTION:
URL:https://hudsonparkps.wa.edu.au/calendar/reward-day-pizza/
CATEGORIES:School Events
END:VEVENT
BEGIN:VEVENT
DTSTART;VALUE=DATE:20250205
DTEND;VALUE=DATE:20250206
DTSTAMP:20260424T071515
CREATED:20250115T084104Z
LAST-MODIFIED:20250115T084104Z
UID:910-1738713600-1738799999@hudsonparkps.wa.edu.au
SUMMARY:Term 1 begins
DESCRIPTION:
URL:https://hudsonparkps.wa.edu.au/calendar/term-1-begins/
CATEGORIES:Term Dates
END:VEVENT
BEGIN:VEVENT
DTSTART;VALUE=DATE:20241213
DTEND;VALUE=DATE:20250205
DTSTAMP:20260424T071515
CREATED:20250115T084145Z
LAST-MODIFIED:20250115T084145Z
UID:912-1734048000-1738713599@hudsonparkps.wa.edu.au
SUMMARY:Term holiday end of 2024
DESCRIPTION:
URL:https://hudsonparkps.wa.edu.au/calendar/term-holiday-end-of-2024/
CATEGORIES:School Holidays
END:VEVENT
BEGIN:VEVENT
DTSTART;VALUE=DATE:20240921
DTEND;VALUE=DATE:20241007
DTSTAMP:20260424T071515
CREATED:20240702T105215Z
LAST-MODIFIED:20240702T105504Z
UID:891-1726876800-1728259199@hudsonparkps.wa.edu.au
SUMMARY:Term Three Break
DESCRIPTION:
URL:https://hudsonparkps.wa.edu.au/calendar/term-3-break/
CATEGORIES:School Holidays
END:VEVENT
BEGIN:VEVENT
DTSTART;VALUE=DATE:20240920
DTEND;VALUE=DATE:20240921
DTSTAMP:20260424T071515
CREATED:20240702T105056Z
LAST-MODIFIED:20240702T105056Z
UID:889-1726790400-1726876799@hudsonparkps.wa.edu.au
SUMMARY:End of Term 3
DESCRIPTION:
URL:https://hudsonparkps.wa.edu.au/calendar/end-of-term-3/
CATEGORIES:Term Dates
END:VEVENT
BEGIN:VEVENT
DTSTART;VALUE=DATE:20240916
DTEND;VALUE=DATE:20240921
DTSTAMP:20260424T071515
CREATED:20240702T105023Z
LAST-MODIFIED:20240702T105023Z
UID:887-1726444800-1726876799@hudsonparkps.wa.edu.au
SUMMARY:Swimming - Balga
DESCRIPTION:
URL:https://hudsonparkps.wa.edu.au/calendar/swimming-balga-2/
CATEGORIES:School Events
END:VEVENT
BEGIN:VEVENT
DTSTART;VALUE=DATE:20240909
DTEND;VALUE=DATE:20240914
DTSTAMP:20260424T071515
CREATED:20240702T104930Z
LAST-MODIFIED:20240702T104947Z
UID:884-1725840000-1726271999@hudsonparkps.wa.edu.au
SUMMARY:Swimming - Balga
DESCRIPTION:
URL:https://hudsonparkps.wa.edu.au/calendar/swimming-balga/
CATEGORIES:School Events
END:VEVENT
BEGIN:VEVENT
DTSTART;VALUE=DATE:20240906
DTEND;VALUE=DATE:20240907
DTSTAMP:20260424T071515
CREATED:20240702T104857Z
LAST-MODIFIED:20240702T104857Z
UID:882-1725580800-1725667199@hudsonparkps.wa.edu.au
SUMMARY:Assembly A5
DESCRIPTION:
URL:https://hudsonparkps.wa.edu.au/calendar/assembly-a5/
CATEGORIES:Assembly
END:VEVENT
BEGIN:VEVENT
DTSTART;VALUE=DATE:20240822
DTEND;VALUE=DATE:20240823
DTSTAMP:20260424T071515
CREATED:20240702T104830Z
LAST-MODIFIED:20240702T104830Z
UID:880-1724284800-1724371199@hudsonparkps.wa.edu.au
SUMMARY:Choir – One BIG Voice
DESCRIPTION:
URL:https://hudsonparkps.wa.edu.au/calendar/choir-one-big-voice/
CATEGORIES:School Events
END:VEVENT
BEGIN:VEVENT
DTSTART;VALUE=DATE:20240816
DTEND;VALUE=DATE:20240817
DTSTAMP:20260424T071515
CREATED:20240702T104743Z
LAST-MODIFIED:20240702T104803Z
UID:877-1723766400-1723852799@hudsonparkps.wa.edu.au
SUMMARY:Book Week and C1 Assembly
DESCRIPTION:
URL:https://hudsonparkps.wa.edu.au/calendar/ook-seek-assembly/
CATEGORIES:Assembly
END:VEVENT
BEGIN:VEVENT
DTSTART;VALUE=DATE:20240813
DTEND;VALUE=DATE:20240817
DTSTAMP:20260424T071515
CREATED:20240702T104716Z
LAST-MODIFIED:20240702T104716Z
UID:875-1723507200-1723852799@hudsonparkps.wa.edu.au
SUMMARY:Book Week
DESCRIPTION:
URL:https://hudsonparkps.wa.edu.au/calendar/book-week/
CATEGORIES:School Events
END:VEVENT
BEGIN:VEVENT
DTSTART;VALUE=DATE:20240812
DTEND;VALUE=DATE:20240813
DTSTAMP:20260424T071515
CREATED:20240702T104650Z
LAST-MODIFIED:20240702T104650Z
UID:873-1723420800-1723507199@hudsonparkps.wa.edu.au
SUMMARY:Author Visit
DESCRIPTION:
URL:https://hudsonparkps.wa.edu.au/calendar/author-visit/
CATEGORIES:School Events
END:VEVENT
BEGIN:VEVENT
DTSTART;VALUE=DATE:20240806
DTEND;VALUE=DATE:20240810
DTSTAMP:20260424T071515
CREATED:20240702T104526Z
LAST-MODIFIED:20240702T104526Z
UID:867-1722902400-1723247999@hudsonparkps.wa.edu.au
SUMMARY:Science Week
DESCRIPTION:
URL:https://hudsonparkps.wa.edu.au/calendar/science-week/
CATEGORIES:School Events
END:VEVENT
BEGIN:VEVENT
DTSTART;VALUE=DATE:20240722
DTEND;VALUE=DATE:20240727
DTSTAMP:20260424T071515
CREATED:20240702T104459Z
LAST-MODIFIED:20240702T104459Z
UID:865-1721606400-1722038399@hudsonparkps.wa.edu.au
SUMMARY:NAIDOC Week
DESCRIPTION:
URL:https://hudsonparkps.wa.edu.au/calendar/naidoc-week/
CATEGORIES:School Events
END:VEVENT
BEGIN:VEVENT
DTSTART;VALUE=DATE:20240716
DTEND;VALUE=DATE:20240717
DTSTAMP:20260424T071515
CREATED:20240702T104207Z
LAST-MODIFIED:20240702T104207Z
UID:860-1721088000-1721174399@hudsonparkps.wa.edu.au
SUMMARY:Term 3 begins for Students
DESCRIPTION:
URL:https://hudsonparkps.wa.edu.au/calendar/term-3-begins-for-students/
CATEGORIES:Term Dates
END:VEVENT
END:VCALENDAR