BEGIN:VCALENDAR
VERSION:2.0
PRODID:-//Hudson Park Primary School - ECPv6.15.14//NONSGML v1.0//EN
CALSCALE:GREGORIAN
METHOD:PUBLISH
X-WR-CALNAME:Hudson Park Primary School
X-ORIGINAL-URL:https://hudsonparkps.wa.edu.au
X-WR-CALDESC:Events for Hudson Park Primary School
REFRESH-INTERVAL;VALUE=DURATION:PT1H
X-Robots-Tag:noindex
X-PUBLISHED-TTL:PT1H
BEGIN:VTIMEZONE
TZID:Australia/Perth
BEGIN:STANDARD
TZOFFSETFROM:+0800
TZOFFSETTO:+0800
TZNAME:AWST
DTSTART:20240101T000000
END:STANDARD
END:VTIMEZONE
BEGIN:VEVENT
DTSTART;VALUE=DATE:20251218
DTEND;VALUE=DATE:20251219
DTSTAMP:20260424T040405
CREATED:20251012T110651Z
LAST-MODIFIED:20251012T110651Z
UID:2039-1766016000-1766102399@hudsonparkps.wa.edu.au
SUMMARY:Last day for students
DESCRIPTION:
URL:https://hudsonparkps.wa.edu.au/calendar/last-day-for-students/
CATEGORIES:Term Dates
END:VEVENT
BEGIN:VEVENT
DTSTART;TZID=Australia/Perth:20251216T173000
DTEND;TZID=Australia/Perth:20251216T190000
DTSTAMP:20260424T040405
CREATED:20251012T094418Z
LAST-MODIFIED:20251012T094521Z
UID:2019-1765906200-1765911600@hudsonparkps.wa.edu.au
SUMMARY:Carols by Candlelight
DESCRIPTION:
URL:https://hudsonparkps.wa.edu.au/calendar/carols-by-candlelight/
CATEGORIES:School Events
END:VEVENT
BEGIN:VEVENT
DTSTART;VALUE=DATE:20251216
DTEND;VALUE=DATE:20251217
DTSTAMP:20260424T040405
CREATED:20251012T110733Z
LAST-MODIFIED:20251012T110733Z
UID:2041-1765843200-1765929599@hudsonparkps.wa.edu.au
SUMMARY:P&C Christmas Raffle
DESCRIPTION:
URL:https://hudsonparkps.wa.edu.au/calendar/pc-christmas-raffle/
CATEGORIES:P&C Event
END:VEVENT
BEGIN:VEVENT
DTSTART;TZID=Australia/Perth:20251212T090000
DTEND;TZID=Australia/Perth:20251212T150000
DTSTAMP:20260424T040405
CREATED:20251012T095557Z
LAST-MODIFIED:20251012T095557Z
UID:2015-1765530000-1765551600@hudsonparkps.wa.edu.au
SUMMARY:Year 6 Adventure World Excursion
DESCRIPTION:
URL:https://hudsonparkps.wa.edu.au/calendar/year-6-adventure-world-excursion/
CATEGORIES:Incursion/Excursion
END:VEVENT
BEGIN:VEVENT
DTSTART;VALUE=DATE:20251211
DTEND;VALUE=DATE:20251212
DTSTAMP:20260424T040405
CREATED:20251012T110814Z
LAST-MODIFIED:20251017T013307Z
UID:2043-1765411200-1765497599@hudsonparkps.wa.edu.au
SUMMARY:Book Award Assembly
DESCRIPTION:
URL:https://hudsonparkps.wa.edu.au/calendar/book-award-assembly-2/
CATEGORIES:Assembly
END:VEVENT
BEGIN:VEVENT
DTSTART;VALUE=DATE:20251209
DTEND;VALUE=DATE:20251210
DTSTAMP:20260424T040405
CREATED:20251012T095557Z
LAST-MODIFIED:20251012T095557Z
UID:2011-1765238400-1765324799@hudsonparkps.wa.edu.au
SUMMARY:Year 6 Graduation Assembly
DESCRIPTION:
URL:https://hudsonparkps.wa.edu.au/calendar/year-6-graduation-assembly/
CATEGORIES:Assembly
END:VEVENT
BEGIN:VEVENT
DTSTART;VALUE=DATE:20251209
DTEND;VALUE=DATE:20251210
DTSTAMP:20260424T040405
CREATED:20251012T095557Z
LAST-MODIFIED:20251012T095557Z
UID:2013-1765238400-1765324799@hudsonparkps.wa.edu.au
SUMMARY:Rewards Day - Ice Creams
DESCRIPTION:
URL:https://hudsonparkps.wa.edu.au/calendar/rewards-day-ice-creams/
CATEGORIES:School Events
END:VEVENT
BEGIN:VEVENT
DTSTART;TZID=Australia/Perth:20251205T080000
DTEND;TZID=Australia/Perth:20251205T170000
DTSTAMP:20260424T040405
CREATED:20251012T095557Z
LAST-MODIFIED:20251012T095557Z
UID:2009-1764921600-1764954000@hudsonparkps.wa.edu.au
SUMMARY:HPPS Little Learners Kindy Transition - Session 3
DESCRIPTION:Kindy is a place where your little one will make friends\, explore new environments\, build confidence and have fun learning. Join us for session 3 to find out all you need to know about Kindy at your school.
URL:https://hudsonparkps.wa.edu.au/calendar/hpps-little-learners-kindy-transition-session-3/
LOCATION:C BLOCK
CATEGORIES:Meetings
END:VEVENT
BEGIN:VEVENT
DTSTART;VALUE=DATE:20251203
DTEND;VALUE=DATE:20251204
DTSTAMP:20260424T040405
CREATED:20251012T095558Z
LAST-MODIFIED:20251012T100512Z
UID:2006-1764720000-1764806399@hudsonparkps.wa.edu.au
SUMMARY:Story Dog Fundraiser
DESCRIPTION:
URL:https://hudsonparkps.wa.edu.au/calendar/story-dog-fundraiser/
CATEGORIES:School Events
END:VEVENT
BEGIN:VEVENT
DTSTART;TZID=Australia/Perth:20251128T090000
DTEND;TZID=Australia/Perth:20251128T100000
DTSTAMP:20260424T040405
CREATED:20251025T003407Z
LAST-MODIFIED:20251025T003407Z
UID:2058-1764320400-1764324000@hudsonparkps.wa.edu.au
SUMMARY:HPPS Little Learners Kindy Transition: Session 3
DESCRIPTION:Kindy is a place where your little one will make friends\, explore new environments\, build confidence and have fun learning. Join us to find out all you need to know about Kindy at your school.
URL:https://hudsonparkps.wa.edu.au/calendar/hpps-little-learners-kindy-transition-session-3-2/
CATEGORIES:Meetings
END:VEVENT
BEGIN:VEVENT
DTSTART;TZID=Australia/Perth:20251128T090000
DTEND;TZID=Australia/Perth:20251128T100000
DTSTAMP:20260424T040405
CREATED:20251012T105958Z
LAST-MODIFIED:20251012T110121Z
UID:2034-1764320400-1764324000@hudsonparkps.wa.edu.au
SUMMARY:Assembly C3 & C6
DESCRIPTION:
URL:https://hudsonparkps.wa.edu.au/calendar/assembly-c3-c6/
CATEGORIES:Assembly
END:VEVENT
BEGIN:VEVENT
DTSTART;TZID=Australia/Perth:20251126T170000
DTEND;TZID=Australia/Perth:20251126T180000
DTSTAMP:20260424T040405
CREATED:20251012T095432Z
LAST-MODIFIED:20251022T103839Z
UID:1995-1764176400-1764180000@hudsonparkps.wa.edu.au
SUMMARY:School Board Meeting
DESCRIPTION:
URL:https://hudsonparkps.wa.edu.au/calendar/school-board-meeting-2/
CATEGORIES:Meetings
END:VEVENT
BEGIN:VEVENT
DTSTART;TZID=Australia/Perth:20251121T083000
DTEND;TZID=Australia/Perth:20251121T093000
DTSTAMP:20260424T040405
CREATED:20251012T110410Z
LAST-MODIFIED:20251012T110410Z
UID:2037-1763713800-1763717400@hudsonparkps.wa.edu.au
SUMMARY:French Café Year 6
DESCRIPTION:
URL:https://hudsonparkps.wa.edu.au/calendar/french-cafe-year-6/
CATEGORIES:School Events
END:VEVENT
BEGIN:VEVENT
DTSTART;VALUE=DATE:20251118
DTEND;VALUE=DATE:20251119
DTSTAMP:20260424T040405
CREATED:20251012T112037Z
LAST-MODIFIED:20251012T112146Z
UID:2051-1763424000-1763510399@hudsonparkps.wa.edu.au
SUMMARY:P&C Nacho/Nugget Day
DESCRIPTION:
URL:https://hudsonparkps.wa.edu.au/calendar/pc-nacho-nugget-day/
CATEGORIES:P&C Event
END:VEVENT
BEGIN:VEVENT
DTSTART;TZID=Australia/Perth:20251114T090000
DTEND;TZID=Australia/Perth:20251114T100000
DTSTAMP:20260424T040405
CREATED:20251012T095558Z
LAST-MODIFIED:20251012T095558Z
UID:2003-1763110800-1763114400@hudsonparkps.wa.edu.au
SUMMARY:HPPS Little Learners Kindy Transition Session 2
DESCRIPTION:Kindy is a place where your little one will make friends\, explore new environments\, build confidence and have fun learning. Join us for session 2 to find out all you need to know about Kindy at your school.
URL:https://hudsonparkps.wa.edu.au/calendar/hpps-little-learners-kindy-transition-session-2/
LOCATION:Kindy Class
CATEGORIES:Meetings
END:VEVENT
BEGIN:VEVENT
DTSTART;TZID=Australia/Perth:20251111T170000
DTEND;TZID=Australia/Perth:20251111T180000
DTSTAMP:20260424T040405
CREATED:20251012T111926Z
LAST-MODIFIED:20251012T111926Z
UID:2049-1762880400-1762884000@hudsonparkps.wa.edu.au
SUMMARY:P&C Meeting
DESCRIPTION:
URL:https://hudsonparkps.wa.edu.au/calendar/pc-meeting-2/
CATEGORIES:Meetings
END:VEVENT
BEGIN:VEVENT
DTSTART;TZID=Australia/Perth:20251111T150000
DTEND;TZID=Australia/Perth:20251113T160000
DTSTAMP:20260424T040405
CREATED:20251012T095558Z
LAST-MODIFIED:20251012T095558Z
UID:2001-1762873200-1763049600@hudsonparkps.wa.edu.au
SUMMARY:Grinchmas Book Fair - Sales
DESCRIPTION:
URL:https://hudsonparkps.wa.edu.au/calendar/grinchmas-book-fair-sales/
CATEGORIES:School Events
END:VEVENT
BEGIN:VEVENT
DTSTART;TZID=Australia/Perth:20251111T110000
DTEND;TZID=Australia/Perth:20251111T110100
DTSTAMP:20260424T040405
CREATED:20251012T111810Z
LAST-MODIFIED:20251012T111810Z
UID:2047-1762858800-1762858860@hudsonparkps.wa.edu.au
SUMMARY:Remembrance Day
DESCRIPTION:
URL:https://hudsonparkps.wa.edu.au/calendar/remembrance-day/
CATEGORIES:School Events
END:VEVENT
BEGIN:VEVENT
DTSTART;TZID=Australia/Perth:20251110T080000
DTEND;TZID=Australia/Perth:20251110T150000
DTSTAMP:20260424T040405
CREATED:20251012T095558Z
LAST-MODIFIED:20251012T095558Z
UID:1999-1762761600-1762786800@hudsonparkps.wa.edu.au
SUMMARY:Grinchmas Book Fair - Student Preview/Wish List Day
DESCRIPTION:
URL:https://hudsonparkps.wa.edu.au/calendar/grinchmas-book-fair-student-preview-wish-list-day/
CATEGORIES:School Events
END:VEVENT
BEGIN:VEVENT
DTSTART;TZID=Australia/Perth:20251107T090000
DTEND;TZID=Australia/Perth:20251107T100000
DTSTAMP:20260424T040405
CREATED:20251012T095558Z
LAST-MODIFIED:20251012T095558Z
UID:1997-1762506000-1762509600@hudsonparkps.wa.edu.au
SUMMARY:Assembly C1 and C2
DESCRIPTION:
URL:https://hudsonparkps.wa.edu.au/calendar/assembly-c1-and-c2/
CATEGORIES:Assembly
END:VEVENT
BEGIN:VEVENT
DTSTART;TZID=Australia/Perth:20251031T090000
DTEND;TZID=Australia/Perth:20251031T100000
DTSTAMP:20260424T040405
CREATED:20251012T094208Z
LAST-MODIFIED:20251012T094208Z
UID:1988-1761901200-1761904800@hudsonparkps.wa.edu.au
SUMMARY:HPPS Little Learners Kindy Transition
DESCRIPTION:Kindy is a place where your little one will make friends\, explore new environments\, build confidence and have fun learning. Join us to find out all you need to know about Kindy at your school.
URL:https://hudsonparkps.wa.edu.au/calendar/hpps-little-learners-kindy-transition/
LOCATION:SCHOOL LIBRARY
CATEGORIES:Meetings
END:VEVENT
BEGIN:VEVENT
DTSTART;VALUE=DATE:20251031
DTEND;VALUE=DATE:20251101
DTSTAMP:20260424T040405
CREATED:20251012T093412Z
LAST-MODIFIED:20251012T093412Z
UID:1990-1761868800-1761955199@hudsonparkps.wa.edu.au
SUMMARY:World Teachers' Day
DESCRIPTION:
URL:https://hudsonparkps.wa.edu.au/calendar/world-teachers-day/
CATEGORIES:School Events
END:VEVENT
BEGIN:VEVENT
DTSTART;TZID=Australia/Perth:20251030T160000
DTEND;TZID=Australia/Perth:20251030T180000
DTSTAMP:20260424T040405
CREATED:20251012T093738Z
LAST-MODIFIED:20251012T093738Z
UID:1992-1761840000-1761847200@hudsonparkps.wa.edu.au
SUMMARY:Halloween Disco
DESCRIPTION:
URL:https://hudsonparkps.wa.edu.au/calendar/halloween-disco/
CATEGORIES:P&C Event
END:VEVENT
BEGIN:VEVENT
DTSTART;TZID=Australia/Perth:20251030T093000
DTEND;TZID=Australia/Perth:20251030T103000
DTSTAMP:20260424T040405
CREATED:20251012T093631Z
LAST-MODIFIED:20251012T093631Z
UID:1986-1761816600-1761820200@hudsonparkps.wa.edu.au
SUMMARY:Parent COMPASS Information Session
DESCRIPTION:Compass is the NEW school management system that allows parents and carers to provide and receive meaningful information about your school and your child. Join us to learn how to use the App.
URL:https://hudsonparkps.wa.edu.au/calendar/parent-compass-information-session-5/
CATEGORIES:Meetings
END:VEVENT
BEGIN:VEVENT
DTSTART;TZID=Australia/Perth:20251029T083000
DTEND;TZID=Australia/Perth:20251029T150000
DTSTAMP:20260424T040405
CREATED:20251012T093412Z
LAST-MODIFIED:20251012T094324Z
UID:1984-1761726600-1761750000@hudsonparkps.wa.edu.au
SUMMARY:Science Incursion
DESCRIPTION:
URL:https://hudsonparkps.wa.edu.au/calendar/science-incursion/
CATEGORIES:Incursion/Excursion
END:VEVENT
BEGIN:VEVENT
DTSTART;TZID=Australia/Perth:20251028T140000
DTEND;TZID=Australia/Perth:20251028T150000
DTSTAMP:20260424T040405
CREATED:20251012T093521Z
LAST-MODIFIED:20251012T093521Z
UID:1976-1761660000-1761663600@hudsonparkps.wa.edu.au
SUMMARY:Parent COMPASS Information Session
DESCRIPTION:Compass is the NEW school management system that allows parents and carers to provide and receive meaningful information about your school and your child. Join us to learn how to use the App.
URL:https://hudsonparkps.wa.edu.au/calendar/parent-compass-information-session-4/
LOCATION:SCHOOL LIBRARY
CATEGORIES:Meetings
END:VEVENT
BEGIN:VEVENT
DTSTART;VALUE=DATE:20251024
DTEND;VALUE=DATE:20251025
DTSTAMP:20260424T040405
CREATED:20251012T093412Z
LAST-MODIFIED:20251012T093412Z
UID:1982-1761264000-1761350399@hudsonparkps.wa.edu.au
SUMMARY:Interschool Athletics @ Marangaroo PS
DESCRIPTION:
URL:https://hudsonparkps.wa.edu.au/calendar/interschool-athletics-marangaroo-ps/
CATEGORIES:Incursion/Excursion
END:VEVENT
BEGIN:VEVENT
DTSTART;TZID=Australia/Perth:20251023T140000
DTEND;TZID=Australia/Perth:20251023T150000
DTSTAMP:20260424T040405
CREATED:20251012T093227Z
LAST-MODIFIED:20251012T095041Z
UID:1980-1761228000-1761231600@hudsonparkps.wa.edu.au
SUMMARY:Parent COMPASS Information Session
DESCRIPTION:Compass is the NEW school management system that allows parents and carers to provide and receive meaningful information about your school and your child. Join us to learn how to use the App.
URL:https://hudsonparkps.wa.edu.au/calendar/parent-compass-information-session-3/
LOCATION:SCHOOL LIBRARY
CATEGORIES:Meetings
END:VEVENT
BEGIN:VEVENT
DTSTART;VALUE=DATE:20251023
DTEND;VALUE=DATE:20251024
DTSTAMP:20260424T040405
CREATED:20251012T093135Z
LAST-MODIFIED:20251012T093135Z
UID:1978-1761177600-1761263999@hudsonparkps.wa.edu.au
SUMMARY:Graduation Photograph - Year 6
DESCRIPTION:
URL:https://hudsonparkps.wa.edu.au/calendar/graduation-photograph-year-6/
CATEGORIES:School Events
END:VEVENT
BEGIN:VEVENT
DTSTART;TZID=Australia/Perth:20251022T090000
DTEND;TZID=Australia/Perth:20251022T150000
DTSTAMP:20260424T040405
CREATED:20251012T093135Z
LAST-MODIFIED:20251017T050554Z
UID:2024-1761123600-1761145200@hudsonparkps.wa.edu.au
SUMMARY:Barking Gecko Excursion Year 3-6
DESCRIPTION:
URL:https://hudsonparkps.wa.edu.au/calendar/barking-gecko-incursion-year-3-6/
CATEGORIES:Incursion/Excursion
END:VEVENT
END:VCALENDAR