BEGIN:VCALENDAR
VERSION:2.0
PRODID:-//Hudson Park Primary School - ECPv6.15.14//NONSGML v1.0//EN
CALSCALE:GREGORIAN
METHOD:PUBLISH
X-ORIGINAL-URL:https://hudsonparkps.wa.edu.au
X-WR-CALDESC:Events for Hudson Park Primary School
REFRESH-INTERVAL;VALUE=DURATION:PT1H
X-Robots-Tag:noindex
X-PUBLISHED-TTL:PT1H
BEGIN:VTIMEZONE
TZID:Australia/Perth
BEGIN:STANDARD
TZOFFSETFROM:+0800
TZOFFSETTO:+0800
TZNAME:AWST
DTSTART:20230101T000000
END:STANDARD
END:VTIMEZONE
BEGIN:VEVENT
DTSTART;VALUE=DATE:20240909
DTEND;VALUE=DATE:20240914
DTSTAMP:20260420T032809
CREATED:20240702T104930Z
LAST-MODIFIED:20240702T104947Z
UID:884-1725840000-1726271999@hudsonparkps.wa.edu.au
SUMMARY:Swimming - Balga
DESCRIPTION:
URL:https://hudsonparkps.wa.edu.au/calendar/swimming-balga/
CATEGORIES:School Events
END:VEVENT
BEGIN:VEVENT
DTSTART;VALUE=DATE:20240916
DTEND;VALUE=DATE:20240921
DTSTAMP:20260420T032809
CREATED:20240702T105023Z
LAST-MODIFIED:20240702T105023Z
UID:887-1726444800-1726876799@hudsonparkps.wa.edu.au
SUMMARY:Swimming - Balga
DESCRIPTION:
URL:https://hudsonparkps.wa.edu.au/calendar/swimming-balga-2/
CATEGORIES:School Events
END:VEVENT
END:VCALENDAR