BEGIN:VCALENDAR
VERSION:2.0
PRODID:-//Hudson Park Primary School - ECPv6.15.14//NONSGML v1.0//EN
CALSCALE:GREGORIAN
METHOD:PUBLISH
X-ORIGINAL-URL:https://hudsonparkps.wa.edu.au
X-WR-CALDESC:Events for Hudson Park Primary School
REFRESH-INTERVAL;VALUE=DURATION:PT1H
X-Robots-Tag:noindex
X-PUBLISHED-TTL:PT1H
BEGIN:VTIMEZONE
TZID:Australia/Perth
BEGIN:STANDARD
TZOFFSETFROM:+0800
TZOFFSETTO:+0800
TZNAME:AWST
DTSTART:20240101T000000
END:STANDARD
END:VTIMEZONE
BEGIN:VEVENT
DTSTART;VALUE=DATE:20251216
DTEND;VALUE=DATE:20251217
DTSTAMP:20260421T014300
CREATED:20251012T110733Z
LAST-MODIFIED:20251012T110733Z
UID:2041-1765843200-1765929599@hudsonparkps.wa.edu.au
SUMMARY:P&C Christmas Raffle
DESCRIPTION:
URL:https://hudsonparkps.wa.edu.au/calendar/pc-christmas-raffle/
CATEGORIES:P&C Event
END:VEVENT
BEGIN:VEVENT
DTSTART;VALUE=DATE:20251118
DTEND;VALUE=DATE:20251119
DTSTAMP:20260421T014300
CREATED:20251012T112037Z
LAST-MODIFIED:20251012T112146Z
UID:2051-1763424000-1763510399@hudsonparkps.wa.edu.au
SUMMARY:P&C Nacho/Nugget Day
DESCRIPTION:
URL:https://hudsonparkps.wa.edu.au/calendar/pc-nacho-nugget-day/
CATEGORIES:P&C Event
END:VEVENT
BEGIN:VEVENT
DTSTART;TZID=Australia/Perth:20251030T160000
DTEND;TZID=Australia/Perth:20251030T180000
DTSTAMP:20260421T014300
CREATED:20251012T093738Z
LAST-MODIFIED:20251012T093738Z
UID:1992-1761840000-1761847200@hudsonparkps.wa.edu.au
SUMMARY:Halloween Disco
DESCRIPTION:
URL:https://hudsonparkps.wa.edu.au/calendar/halloween-disco/
CATEGORIES:P&C Event
END:VEVENT
BEGIN:VEVENT
DTSTART;VALUE=DATE:20251021
DTEND;VALUE=DATE:20251022
DTSTAMP:20260421T014300
CREATED:20251012T111331Z
LAST-MODIFIED:20251012T111415Z
UID:2045-1761004800-1761091199@hudsonparkps.wa.edu.au
SUMMARY:P&C Pizza Day
DESCRIPTION:
URL:https://hudsonparkps.wa.edu.au/calendar/pc-pizza-day/
CATEGORIES:P&C Event
END:VEVENT
END:VCALENDAR